BEGIN:VCALENDAR
VERSION:2.0
PRODID:-//Tukios.com/
BEGIN:VEVENT
UID:878023b9-417a-4870-ba6d-11aad5cc949f@www.rayfuneralservices.com
DTSTAMP:20260423T103552Z
DTSTART:20260613T173000Z
DTEND:20260613T180000Z
SUMMARY:Graveside Service
DESCRIPTION:
URL:https://www.rayfuneralservices.com/obituaries/marlene-myers
LOCATION:Vicksburg Cemetery West W Avenue (Highway Street)  Vicksburg MI 
	49097
GEO:42.1132848;-85.7050063
END:VEVENT
END:VCALENDAR