BEGIN:VCALENDAR
VERSION:2.0
PRODID:-//Tukios.com/
BEGIN:VEVENT
UID:e1f96bad-a6e8-4aa5-a1bb-188a4d341ad4@www.rayfuneralservices.com
DTSTAMP:20260423T103521Z
DTSTART:20260613T150000Z
DTEND:20260613T160000Z
SUMMARY:Memorial Service
DESCRIPTION:Luncheon To Follow
URL:https://www.rayfuneralservices.com/obituaries/marlene-myers
LOCATION:Bethany Chapel 15130 Millard Rd  Three Rivers MI 49093
GEO:41.9403605;-85.6605146
END:VEVENT
END:VCALENDAR