BEGIN:VCALENDAR
VERSION:2.0
PRODID:-//Tukios.com/
BEGIN:VEVENT
UID:28ccfd94-f6fe-4396-8df4-c131b67fc73b@www.rayfuneralservices.com
DTSTAMP:20260423T084448Z
DTSTART:20260522T150000Z
DTEND:20260522T160000Z
SUMMARY:Graveside
DESCRIPTION:Graveside service for Charles “Chuck” Elmer Chrisman.
URL:https://www.rayfuneralservices.com/obituaries/charles-chrisman
LOCATION:Moorepark Cemetery 16960 Moorepark Road  Three Rivers MI 49093
GEO:42.0137852;-85.6265219
END:VEVENT
END:VCALENDAR